BEGIN:VCALENDAR
VERSION:2.0
PRODID:-//Be The Word Ministry - ECPv6.15.20//NONSGML v1.0//EN
CALSCALE:GREGORIAN
METHOD:PUBLISH
X-ORIGINAL-URL:https://bethewordministry.com
X-WR-CALDESC:Events for Be The Word Ministry
REFRESH-INTERVAL;VALUE=DURATION:PT1H
X-Robots-Tag:noindex
X-PUBLISHED-TTL:PT1H
BEGIN:VTIMEZONE
TZID:America/Indiana/Indianapolis
BEGIN:DAYLIGHT
TZOFFSETFROM:-0500
TZOFFSETTO:-0400
TZNAME:EDT
DTSTART:20250309T070000
END:DAYLIGHT
BEGIN:STANDARD
TZOFFSETFROM:-0400
TZOFFSETTO:-0500
TZNAME:EST
DTSTART:20251102T060000
END:STANDARD
BEGIN:DAYLIGHT
TZOFFSETFROM:-0500
TZOFFSETTO:-0400
TZNAME:EDT
DTSTART:20260308T070000
END:DAYLIGHT
BEGIN:STANDARD
TZOFFSETFROM:-0400
TZOFFSETTO:-0500
TZNAME:EST
DTSTART:20261101T060000
END:STANDARD
BEGIN:DAYLIGHT
TZOFFSETFROM:-0500
TZOFFSETTO:-0400
TZNAME:EDT
DTSTART:20270314T070000
END:DAYLIGHT
BEGIN:STANDARD
TZOFFSETFROM:-0400
TZOFFSETTO:-0500
TZNAME:EST
DTSTART:20271107T060000
END:STANDARD
END:VTIMEZONE
BEGIN:VEVENT
DTSTART;TZID=America/Indiana/Indianapolis:20260716T080000
DTEND;TZID=America/Indiana/Indianapolis:20260718T170000
DTSTAMP:20260419T113412
CREATED:20260120T143655Z
LAST-MODIFIED:20260320T035223Z
UID:1323-1784188800-1784394000@bethewordministry.com
SUMMARY:2026 Leadership Conference
DESCRIPTION:Join us for the 17th Annual Be The Word Leadership Conference in Wallace\, North Carolina. Held at Awaken Church 1504 N Norwood St\, Wallace\, NC 28466. \nRegister today for this powerful conference designed to elevate your leadership skills and spiritual growth. https://givebutter.com/Leader2026
URL:https://bethewordministry.com/event-calendar/2026-leadership-conference/
LOCATION:Awaken Church Wallace\, 1504 N Norwood St\, Wallace\, NC\, Wallace\, NC\, 28466\, United States
END:VEVENT
BEGIN:VEVENT
DTSTART;TZID=America/Indiana/Indianapolis:20260719T110000
DTEND;TZID=America/Indiana/Indianapolis:20260719T120000
DTSTAMP:20260419T113412
CREATED:20260331T192720Z
LAST-MODIFIED:20260331T194611Z
UID:1401-1784458800-1784462400@bethewordministry.com
SUMMARY:Dr. Johnnie Blount Speaking at Awaken Church Wallace
DESCRIPTION:Dr. Johnnie Blount will be the guest speaker at Awaken Wallace on Sunday April 19th at the 11 am service. \n1504 N Norwood St\, Wallace\, NC 28466
URL:https://bethewordministry.com/event-calendar/dr-johnnie-blount-speaking-at-awaken-church-wallace/
LOCATION:Awaken Church Wallace\, 1504 N Norwood St\, Wallace\, NC\, Wallace\, NC\, 28466\, United States
END:VEVENT
END:VCALENDAR